BEGIN:VCALENDAR
VERSION:2.0
PRODID:-//eventon.com NONSGML v1.0//EN
BEGIN:VEVENT
UID:69e633600e977
DTSTAMP:20260420T160832
DTSTART:20160625
DTEND:20160910
TZID:UTC
LOCATION:
SUMMARY:"Estate al Poggio": Super Estate al Poggio alla Croce
DESCRIPTION: Una lunga estate piena di eventi quella organizzata dall’Sms Poggio alla Croce nel borgo arroccato sulle colline che separano il Chianti dal Valdarno\,  fra Greve in Chianti e Figline Valdarno. Ecco il programma: le manifestazioni si terranno presso la piazza del Giaggiolo\,  tutti gli spettacoli musicali e teatrali sono gratuiti.[..]
URL:https://www.wechianti.com/events/estate-al-poggio-super-estate-al-poggio-alla-croce/
END:VEVENT
END:VCALENDAR