BEGIN:VCALENDAR
VERSION:2.0
PRODID:-//eventon.com NONSGML v1.0//EN
BEGIN:VEVENT
UID:69e64f07f1f1b
DTSTAMP:20260420T180631
DTSTART:20160625
DTEND:20160910
TZID:UTC
LOCATION:
SUMMARY:"Estate al Poggio": Super Summer in Poggio alla Croce
DESCRIPTION: The Sms Poggio alla Croce has organized a summer full of events Poggio alla Croce\,  situated in the hills which separate the Chianti region from the Valdarno\,  between Greve in Chianti and Figline Valdarno. The program is as follow. Events will take place in piazza del Giaggiolo and all music[..]
URL:https://www.wechianti.com/events/estate-al-poggio-super-estate-al-poggio-alla-croce/
END:VEVENT
END:VCALENDAR