BEGIN:VCALENDAR
VERSION:2.0
PRODID:-//eventon.com NONSGML v1.0//EN
BEGIN:VEVENT
UID:69e5d35417fcd
DTSTAMP:20260420T091844
DTSTART:20160527T223000Z
DTEND:20160527T000000Z
TZID:UTC
LOCATION:San Casciano (Cerbaia) 
SUMMARY:Art adn sports festival: Lights in Cerbaia
DESCRIPTION: From Thursday\,  May 26 to Sunday\,  June 19 &#8220;Art and Sports Festival&#8221; organized dall&#8217;Usd Cerbaia. Throughout the event is running for dinner (Sundays for lunch) the gastronomic stand with the pizzeria and the &#8220;meat&#8221; of the Butcher Frittelli and super grill (with take-away options). Every night bar with appetizers and[..]
URL:https://www.wechianti.com/events/festa-arte-sport-luci-cerbaia/
END:VEVENT
END:VCALENDAR