BEGIN:VCALENDAR
VERSION:2.0
PRODID:-//eventon.com NONSGML v1.0//EN
BEGIN:VEVENT
UID:69e5ed6e0d233
DTSTAMP:20260420T111006
DTSTART:20160527T223000Z
DTEND:20160527T000000Z
TZID:UTC
LOCATION:San Casciano (Cerbaia) 
SUMMARY:Festa Arte e Sport: Luci a Cerbaia
DESCRIPTION: Da giovedì 26 maggio a domenica 19 giugno &#8220;Festa Arte e Sport&#8221; organizzata dall&#8217;Usd Cerbaia. Durante tutta la manifestazione è in funzione per la cena (la domenica anche a pranzo) lo stand gastronomica con la pizzeria e la &#8220;ciccia&#8221; della Macelleria Frittelli e la super grigliata (con possibilità di asporto).[..]
URL:https://www.wechianti.com/events/festa-arte-sport-luci-cerbaia/
END:VEVENT
END:VCALENDAR