BEGIN:VCALENDAR
VERSION:2.0
PRODID:-//eventon.com NONSGML v1.0//EN
BEGIN:VEVENT
UID:69e92c8466f0f
DTSTAMP:20260422T221604
DTSTART:20220420T043000Z
DTEND:20220420T070000Z
TZID:Pacific/Midway
LOCATION:Panzano in Chianti 
SUMMARY:Scoppio del Carro with the flight of the Colombina
DESCRIPTION: A tradition that has long been part of the history of Panzano in Chianti and of the whole Chianti area is back. We are talking about the Scoppio del Carro and the flight of the Colombina\,  which takes place the day after Easter Monday. Tuesday 19 April (starting at 6[..]
URL:https://www.wechianti.com/events/scoppio-del-carro-con-il-volo-della-colombina-a-panzano-in-chianti/
END:VEVENT
END:VCALENDAR