BEGIN:VCALENDAR
VERSION:2.0
PRODID:-//eventon.com NONSGML v1.0//EN
BEGIN:VEVENT
UID:69e9457c2a034
DTSTAMP:20260423T000236
DTSTART:20220420T043000Z
DTEND:20220420T070000Z
TZID:Pacific/Midway
LOCATION:Panzano in Chianti 
SUMMARY:Scoppio del Carro con il volo della Colombina a Panzano in Chianti
DESCRIPTION: Torna una tradizione che da tempo fa parte della storia di Panzano in Chianti e di tutto il territorio chiantigiano. Stiamo parlando dello Scoppio del Carro e del volo della Colombina\,  che si svolge il giorno seguente al Lunedì di Pasquetta. Martedì 19 aprile (inizio alle 18)\,  potrete tornare ad[..]
URL:https://www.wechianti.com/events/scoppio-del-carro-con-il-volo-della-colombina-a-panzano-in-chianti/
END:VEVENT
END:VCALENDAR