BEGIN:VCALENDAR
VERSION:2.0
PRODID:-//eventon.com NONSGML v1.0//EN
BEGIN:VEVENT
UID:69e917679b661
DTSTAMP:20260422T204559
DTSTART:20210809T083000Z
DTEND:20210809T103000Z
TZID:Pacific/Midway
LOCATION:San Donato in Poggio (Barberino Tavarnelle) 
SUMMARY:"Sere d'estate nel Borgo": Musical entertainment
DESCRIPTION: Definitive calendar of the &#8220;Sere d&#8217;estate nel Borgo&#8221; (&#8220;Summer evenings in the Borgo&#8221;)\,  in San Donato in Poggio (Barberino Tavarnelle)\,  with the coordination of the Pro Loco. Which together with Chianti in Musica has created a series of cultural and musical meetings that affect the entire summer period\,  with the[..]
URL:https://www.wechianti.com/events/sere-destate-nel-borgo-musical-entertainment-2/?lang=en
END:VEVENT
END:VCALENDAR