BEGIN:VCALENDAR
VERSION:2.0
PRODID:-//eventon.com NONSGML v1.0//EN
BEGIN:VEVENT
UID:69e88eb108a6a
DTSTAMP:20260422T110241
DTSTART:20210716T070000Z
DTEND:20210716T100000Z
TZID:Pacific/Midway
LOCATION:Gaiole in Chianti 
SUMMARY:Estate a Gaiole in Chianti: "Sorsi e racconti"\,  cena con La Canonica di Nusessa
DESCRIPTION: Il Comune di Gaiole in Chianti presenta il cartellone degli eventi 2021. Saranno 4 mesi\,  da luglio a ottobre\,  dedicati alla valorizzazione del territorio e dei suoi prodotti\,  attraverso le cene degustazione\,  ma anche la cultura\,  gli spettacoli di teatro e musica. Gli abbinamenti dei vini proposti durante le cene[..]
URL:https://www.wechianti.com/events/estate-a-gaiole-in-chianti-sorsi-e-racconti-cena-con-la-canonica-di-nusessa/
END:VEVENT
END:VCALENDAR