BEGIN:VCALENDAR
VERSION:2.0
PRODID:-//eventon.com NONSGML v1.0//EN
BEGIN:VEVENT
UID:69ed02d6aa2df
DTSTAMP:20260425T200718
DTSTART:20210620T055900Z
DTEND:20210926T055900Z
TZID:Pacific/Midway
LOCATION:San Casciano Val di Pesa 
SUMMARY:"Effetto Notte": 50 events into the medieval walls of San Casciano
DESCRIPTION: Summer evenings in Florentine Chianti are all to be enjoyed outdoors. The historic center of San Casciano has one more reason to be shared. Thanks to the &#8220;Effetto Notte&#8221; billboard\,  a rich container of events under the stars\,  with the giant screen positioned inside the medieval walls. Able to give[..]
URL:https://www.wechianti.com/events/effetto-notte-50-eventi-da-vivere-allaperto-tra-le-mura-medievali-di-san-casciano/
END:VEVENT
END:VCALENDAR