BEGIN:VCALENDAR
VERSION:2.0
PRODID:-//eventon.com NONSGML v1.0//EN
BEGIN:VEVENT
UID:69ed179056437
DTSTAMP:20260425T213544
DTSTART:20210620T055900Z
DTEND:20210926T055900Z
TZID:Pacific/Midway
LOCATION:San Casciano Val di Pesa 
SUMMARY:"Effetto Notte": 50 eventi da vivere all'aperto tra le mura medievali di San Casciano
DESCRIPTION: Le sere d&#8217;estate nel Chianti fiorentino sono tutte da vivere all&#8217;aperto. Il centro storico di San Casciano ha un motivo in più per essere condiviso. Grazie al cartellone di &#8220;Effetto Notte&#8221;\,  un ricco contenitore di eventi sotto le stelle\,  con il maxischermo posizionato all&#8217;interno delle mura medievali. Capace di regalare[..]
URL:https://www.wechianti.com/events/effetto-notte-50-eventi-da-vivere-allaperto-tra-le-mura-medievali-di-san-casciano/
END:VEVENT
END:VCALENDAR