BEGIN:VCALENDAR
VERSION:2.0
PRODID:-//eventon.com NONSGML v1.0//EN
BEGIN:VEVENT
UID:69e58876a34fb
DTSTAMP:20260420T035918
DTSTART:20210625T043000Z
DTEND:20210625T063000Z
TZID:Pacific/Midway
LOCATION:Sambuca (Barberino Tavarnelle) 
SUMMARY:Chianti Ludens: festa del gioco all'aperto a Barberino Tavarnelle
DESCRIPTION: Dal 17 giugno all&#8217;8 luglio torna\,  nel comune di Barberino Tavarnelle\,  Chianti Ludens\,  la &#8220;Festa del Gioco all&#8217;aperto&#8221;\,  a cura del Cemea Toscana (quest&#8217;anno collabora anche il Museo della Scuola). Tanti eventi ed iniziative pensate per i bambini. Educative. Creative. Giovedì 17 giugno Pineta in via Cassia (Barberino Val d&#8217;Elsa):[..]
URL:https://www.wechianti.com/events/chianti-ludens-festa-del-gioco-allaperto-a-barberino-tavarnelle-2/
END:VEVENT
END:VCALENDAR