BEGIN:VCALENDAR
VERSION:2.0
PRODID:-//eventon.com NONSGML v1.0//EN
BEGIN:VEVENT
UID:69e79733c0cf0
DTSTAMP:20260421T172643
DTSTART:20200808T183000Z
DTEND:20200808T194500Z
TZID:UTC
LOCATION:Castelnuovo Berardenga 
SUMMARY:Chianti Festival: meeting-aperitif with the actress Francesca Nunzi
DESCRIPTION: The Municipalities of Castellina in Chianti\,  Castelnuovo Berardenga and Gaiole in Chianti respond to the Covid-19 emergency with a new edition of the Chianti Festival\,  whith the collaboration of Fondazione Toscana Spettacolo onlus and the artistic direction of Matteo Marsan. All shows will begin at 9.15 pm and will take place in compliance with anti Covid-19 security measures. Almost all[..]
URL:https://www.wechianti.com/events/chianti-festival-incontro-aperitivo-con-lattrice-francesca-nunzi/
END:VEVENT
END:VCALENDAR