BEGIN:VCALENDAR
VERSION:2.0
PRODID:-//eventon.com NONSGML v1.0//EN
BEGIN:VEVENT
UID:69e9e14100808
DTSTAMP:20260423T110713
DTSTART:20200808T183000Z
DTEND:20200808T194500Z
TZID:UTC
LOCATION:Castelnuovo Berardenga 
SUMMARY:Chianti Festival: incontro-aperitivo con l’attrice Francesca Nunzi
DESCRIPTION: I Comuni di Castellina in Chianti\,  Castelnuovo Berardenga e Gaiole in Chianti rispondono all’emergenza sanitaria rilanciando la cultura e il territorio con una nuova edizione del Chianti Festival\,  che nasce dalla collaborazione con la Fondazione Toscana Spettacolo onlus e conta sulla direzione artistica di Matteo Marsan. Tutti gli spettacoli inizieranno alle ore 21.15 e si svolgeranno[..]
URL:https://www.wechianti.com/events/chianti-festival-incontro-aperitivo-con-lattrice-francesca-nunzi/
END:VEVENT
END:VCALENDAR