BEGIN:VCALENDAR
VERSION:2.0
PRODID:-//eventon.com NONSGML v1.0//EN
BEGIN:VEVENT
UID:69e61ab49e426
DTSTAMP:20260420T142316
DTSTART:20200726T210000Z
DTEND:20200726T230000Z
TZID:UTC
LOCATION:Tavarnelle (Barberino Tavarnelle) 
SUMMARY:Summer nights: The nights of Archeology. Searching the lost Castle
DESCRIPTION: A marathon of about 50 events distributed\,  from 9 July to September\,  in 20 different venues\,  between history\,  traditions and modernity. The Municipality of Barberino Tavarnelle collects the talents and resources of local and Florentine artistic realities to build a rich cultural program that ranges between the genres of quality[..]
URL:https://www.wechianti.com/events/le-notti-destate-le-notti-dellarcheologia-alla-ricerca-del-castello-perduto/
END:VEVENT
END:VCALENDAR