BEGIN:VCALENDAR
VERSION:2.0
PRODID:-//eventon.com NONSGML v1.0//EN
BEGIN:VEVENT
UID:69e6301d1f977
DTSTAMP:20260420T155437
DTSTART:20200726T210000Z
DTEND:20200726T230000Z
TZID:UTC
LOCATION:Tavarnelle (Barberino Tavarnelle) 
SUMMARY:Le notti d'estate: Le notti dell'Archeologia. Alla ricerca del Castello perduto
DESCRIPTION: Una maratona di 50 eventi circa distribuiti\,  dal 9 luglio fino a settembre\,  in 20 diverse sedi\,  tra storia\,  tradizioni e contemporaneità. Il Comune di Barberino Tavarnelle raccoglie i talenti e le risorse delle realtà artistiche locali e fiorentine per costruire una ricca programmazione culturale che spazia tra i generi[..]
URL:https://www.wechianti.com/events/le-notti-destate-le-notti-dellarcheologia-alla-ricerca-del-castello-perduto/
END:VEVENT
END:VCALENDAR