BEGIN:VCALENDAR
VERSION:2.0
PRODID:-//eventon.com NONSGML v1.0//EN
BEGIN:VEVENT
UID:69e7344dbb58e
DTSTAMP:20260421T102445
DTSTART:20200910T183000Z
DTEND:20200910T200000Z
TZID:UTC
LOCATION:Tavarnelle (Barberino Tavarnelle) 
SUMMARY:Puppets in the Gardens: "The beautiful Cornflower and the Tirovine witch"
DESCRIPTION: An idea to entertain your children. Outside. With creative and sometimes magical shows. Chianti is (also) for children with the itinerant show of puppetry and puppets with free admission &#8220;Puppets in the gardens&#8221;\,  the now traditional appointment in Barberino Tavarnelle with the world of puppets and puppets. Thursday 9 July[..]
URL:https://www.wechianti.com/events/burattini-nei-giardini-la-bella-fiordaliso-e-la-strega-tirovina/
END:VEVENT
END:VCALENDAR