BEGIN:VCALENDAR
VERSION:2.0
PRODID:-//eventon.com NONSGML v1.0//EN
BEGIN:VEVENT
UID:69e8a94e6fe4f
DTSTAMP:20260422T125614
DTSTART:20191208T103000Z
DTEND:20191208T120000Z
TZID:UTC
LOCATION:Panzano in Chianti 
SUMMARY:Christmas concert (169th edition!) of the Panzano in Chianti Philharmonic
DESCRIPTION: The Panzano in Chianti Philharmonic Society is preparing to perform the traditional pre-Christmas concert in honor of Santa Cecilia\,  Sunday 8 December. The Maestro and the musicians will accompany the Mass in the splendid setting of the church of Santa Maria in Panzano in Chianti\,  which will begin at 10:30[..]
URL:https://www.wechianti.com/events/concerto-natale-169esima-edizione-della-filarmonica-panzano-chianti/
END:VEVENT
END:VCALENDAR