BEGIN:VCALENDAR
VERSION:2.0
PRODID:-//eventon.com NONSGML v1.0//EN
BEGIN:VEVENT
UID:69e88e13a7b9d
DTSTAMP:20260422T110003
DTSTART:20191208T103000Z
DTEND:20191208T120000Z
TZID:UTC
LOCATION:Panzano in Chianti 
SUMMARY:Concerto di Natale (169esima edizione!) della Filarmonica di Panzano in Chianti
DESCRIPTION: La Società Filarmonica di Panzano in Chianti si appresta ad eseguire il tradizionale concerto pre-Natale in onore a Santa Cecilia\,  domenica 8 dicembre. Il Maestro ed i musicanti accompagneranno la Messa nella splendida cornice della chiesa di Santa Maria a Panzano in Chianti\,  che inizierà alle ore 10:30\,  con brani[..]
URL:https://www.wechianti.com/events/concerto-natale-169esima-edizione-della-filarmonica-panzano-chianti/
END:VEVENT
END:VCALENDAR