BEGIN:VCALENDAR
VERSION:2.0
PRODID:-//eventon.com NONSGML v1.0//EN
BEGIN:VEVENT
UID:69ed6f55157c7
DTSTAMP:20260426T035013
DTSTART:20191215
DTEND:20191215
TZID:UTC
LOCATION:Cerbaia (San Casciano) 
SUMMARY:Domenica 15 dicembre "Natale a Cerbaia" in piazza del Monumento
DESCRIPTION: Ritorna domenica 15 dicembre\,  dopo il grande successo degli anni passati\,  &#8220;Natale a Cerbaia&#8221;\,  la giornata dedicata agli eventi natalizi che si svolgerà in piazza del Monumento nel cuore di Cerbaia (San Casciano). Con l&#8217;organizzazione di Usd Cerbaia\,  Pro Loco di San Casciano\,  NeaVita\,  il patrocinio del Comune di San[..]
URL:https://www.wechianti.com/events/domenica-15-dicembre-natale-cerbaia-piazza-del-monumento/
END:VEVENT
END:VCALENDAR