BEGIN:VCALENDAR
VERSION:2.0
PRODID:-//eventon.com NONSGML v1.0//EN
BEGIN:VEVENT
UID:69ecc07b16f4f
DTSTAMP:20260425T152411
DTSTART:20190920
DTEND:20190922
TZID:UTC
LOCATION:Mercatale Val di Pesa (San Casciano) 
SUMMARY:Mercatale\,  “V per Vendemmia”: Grape Harvest Festival’s rich program
DESCRIPTION: &#8220;V for Vendemmia&#8221;: the Grape Harvest Festival is back in Mercatale (San Casciano Val di Pisa)\,  from Friday 20th to Sunday 22nd September\,  organised by Mercantiere\,  Pro Loco San Casciano\,  the contribution of Chianti Banca\,  and the patronage of the Municipality of San Casciano . Here’s the full program. FRIDAY[..]
URL:https://www.wechianti.com/events/mercatale-v-vendemmia-tre-giorni-festa-un-super-programma/
END:VEVENT
END:VCALENDAR