BEGIN:VCALENDAR
VERSION:2.0
PRODID:-//eventon.com NONSGML v1.0//EN
BEGIN:VEVENT
UID:69eca90ebbdb1
DTSTAMP:20260425T134414
DTSTART:20190920
DTEND:20190922
TZID:UTC
LOCATION:Mercatale Val di Pesa (San Casciano) 
SUMMARY:Mercatale\,  "V per vendemmia": tre giorni di festa con un super programma
DESCRIPTION: &#8220;V per Vendemmia&#8221;: torna la Festa della Vendemmia a Mercatale (San Casciano)\,  da venerdì 20 a domenica 22 settembre\,  con l&#8217;organizzazione di Mercantiere\,  Pro Loco San Casciano\,  il contributo di ChiantiBanca\,  il patrocinio del Comune di San Casciano. Ecco il programma completo. ? VENERDI&#8217; 20 SETTEMBRE ? In Piazza Vittorio Veneto &#8211;[..]
URL:https://www.wechianti.com/events/mercatale-v-vendemmia-tre-giorni-festa-un-super-programma/
END:VEVENT
END:VCALENDAR