BEGIN:VCALENDAR
VERSION:2.0
PRODID:-//eventon.com NONSGML v1.0//EN
BEGIN:VEVENT
UID:69e5b52032f3f
DTSTAMP:20260420T070952
DTSTART:20190919
DTEND:20190919
TZID:UTC
LOCATION:Barberino Val d'Elsa 
SUMMARY:PICO’\,  Pizza & great cocktails in the Chianti. Starting September 19th
DESCRIPTION: Pizza\,  Cocktail and Piccornie. This is a new and innovative format that pairs pizza with great cocktails\,  instead of the usual beer. The main goal? Enjoy your pizza without regretting it the following day! On the 19th of September 2019 PICO’ opens its doors in Barberino Tavernelle\,  in the historic centre[..]
URL:https://www.wechianti.com/events/pico-la-casa-del-food-pairing-sbarca-nel-chianti-dal-19-settembre/
END:VEVENT
END:VCALENDAR