BEGIN:VCALENDAR
VERSION:2.0
PRODID:-//eventon.com NONSGML v1.0//EN
BEGIN:VEVENT
UID:69e59b8070d0f
DTSTAMP:20260420T052032
DTSTART:20190919
DTEND:20190919
TZID:UTC
LOCATION:Barberino Val d'Elsa 
SUMMARY:PICO’\,  la casa del food pairing sbarca nel Chianti. Dal 19 settembre
DESCRIPTION: Pizza\,  Cocktail e &#8220;Piccornie&#8221;. Questo il nuovo format che mette al centro il cocktail in abbinamento alla pizza\,  mandando in pensione la solita birra. Obiettivo? Non pentirsi il giorno dopo dello sgarro settimanale. PICO’ apre le sue porte il 19 settembre 2019 a Barberino Tavernelle\,  nel centro storico di Barberino.[..]
URL:https://www.wechianti.com/events/pico-la-casa-del-food-pairing-sbarca-nel-chianti-dal-19-settembre/
END:VEVENT
END:VCALENDAR