BEGIN:VCALENDAR
VERSION:2.0
PRODID:-//eventon.com NONSGML v1.0//EN
BEGIN:VEVENT
UID:69ed84c0ce0d8
DTSTAMP:20260426T052136
DTSTART:20190904T180000Z
DTEND:20190904T230000Z
TZID:UTC
LOCATION:Castelnuovo Berardenga 
SUMMARY:4 September ... 1260\,  the battle of Monteaperti: commemoration in Castelnuovo Berardenga
DESCRIPTION: It was 1260 and the Ghibelline Siena\,  before facing the enemy Guelph Florence\,  decided to make an act of entrustment to the Madonna del Voto\,  giving it the keys to the city. On September 4\,  we remember the Battle of Monteaperti thanks to the Pro Loco of Castelnuovo Berardenga\,  recalling[..]
URL:https://www.wechianti.com/events/4-settembre-1260-la-battaglia-monteaperti-rievocazione-castelnuovo-berardenga/
END:VEVENT
END:VCALENDAR