BEGIN:VCALENDAR
VERSION:2.0
PRODID:-//eventon.com NONSGML v1.0//EN
BEGIN:VEVENT
UID:69ed6afdbe696
DTSTAMP:20260426T033141
DTSTART:20190904T180000Z
DTEND:20190904T230000Z
TZID:UTC
LOCATION:Castelnuovo Berardenga 
SUMMARY:4 settembre... 1260\,  la battaglia di Monteaperti: rievocazione a Castelnuovo Berardenga
DESCRIPTION: Correva il 1260 e la Siena ghibellina\,  prima di affrontare la nemica Firenze guelfa\,  decise di fare un atto di affidamento alla Madonna del Voto consegnandole le chiavi della città. Il 4 settembre si ricorda la Battaglia di Monteaperti grazie alla Pro Loco di Castelnuovo Berardenga\,  rievocando (alle 18.30) l&#8217;atto[..]
URL:https://www.wechianti.com/events/4-settembre-1260-la-battaglia-monteaperti-rievocazione-castelnuovo-berardenga/
END:VEVENT
END:VCALENDAR