BEGIN:VCALENDAR
VERSION:2.0
PRODID:-//eventon.com NONSGML v1.0//EN
BEGIN:VEVENT
UID:69e672265217a
DTSTAMP:20260420T203622
DTSTART:20190908
DTEND:20190908
TZID:UTC
LOCATION:Barberino Tavarnelle 
SUMMARY:"Di Borgo in Borgo": the gastronomic walk in the footsteps of Leonardo Da Vinci
DESCRIPTION: The 2019 edition of &#8220;Di borgo in borgo&#8221; will be along the Agliena where you can visit the bridles of Leonardo da Vinci. It is the naturalistic walk with gastronomic stops organized by the Polisportiva Tavarnelle and Circolo Arci La Rampa\,  with the Section of Tavarnelle of the Unicoop Florence[..]
URL:https://www.wechianti.com/events/borgo-borgo-la-passeggiata-gastronomica-sulle-orme-leonardo-vinci/
END:VEVENT
END:VCALENDAR