BEGIN:VCALENDAR
VERSION:2.0
PRODID:-//eventon.com NONSGML v1.0//EN
BEGIN:VEVENT
UID:69e6a0e0da0de
DTSTAMP:20260420T235544
DTSTART:20190908
DTEND:20190908
TZID:UTC
LOCATION:Barberino Tavarnelle 
SUMMARY:"Di Borgo in Borgo": la passeggiata gastronomica sulle orme di Leonardo Da Vinci
DESCRIPTION: Sta per tornare la camminata attraverso un territorio che tutti ammirano: l&#8217;edizione 2019 di &#8220;Di borgo in borgo&#8221; sarà lungo l&#8217;Agliena dove si potranno visitare le briglie di Leonardo da Vinci. E&#8217; la passeggiata naturalistica con soste gastronomiche organizzata dalla Polisportiva Tavarnelle e Circolo Arci La Rampa\,  con la Sezione di Tavarnelle[..]
URL:https://www.wechianti.com/events/borgo-borgo-la-passeggiata-gastronomica-sulle-orme-leonardo-vinci/
END:VEVENT
END:VCALENDAR