BEGIN:VCALENDAR
VERSION:2.0
PRODID:-//eventon.com NONSGML v1.0//EN
BEGIN:VEVENT
UID:69ec1cf5b68b9
DTSTAMP:20260425T034629
DTSTART:20190126
DTEND:20190331
TZID:UTC
LOCATION:San Donato in Poggio (Tavarnelle) 
SUMMARY:La grande mostra del "figurinaio" Roberto Innocenti a Palazzo Malaspina
DESCRIPTION: Da sabato 26 gennaio (fino al 31 marzo) Palazzo Malaspina\,  a San Donato in Poggio\,  ha il privilegio di accompagnare uno dei più grandi illustratori del mondo\,  erede della tradizione italiana dei figurinai del Novecento\,  in un volo antologico di quarant’anni di attività grafica\,  dagli anni ’80 ai giorni nostri.[..]
URL:https://www.wechianti.com/events/the-great-exhibition-of-the-illustrations-of-roberto-innocenti-at-palazzo-malaspina/
END:VEVENT
END:VCALENDAR