BEGIN:VCALENDAR
VERSION:2.0
PRODID:-//eventon.com NONSGML v1.0//EN
BEGIN:VEVENT
UID:69ec032ed5137
DTSTAMP:20260425T015630
DTSTART:20190126
DTEND:20190331
TZID:UTC
LOCATION:San Donato in Poggio (Tavarnelle) 
SUMMARY:The great exhibition of the illustrations of Roberto Innocenti at Palazzo Malaspina
DESCRIPTION: From Saturday 26th January (until March 31st) the Palazzo Malaspina\,  in San Donato in Poggio\,  hosts an exhibition of one of the world’s greatest illustrators\,  Roberto Innocenti\,  heir to the Italian tradition of twentieth century ‘figurinai’. A great display of his graphic activity\,  which lasts 40 years\,  from the 80s[..]
URL:https://www.wechianti.com/events/the-great-exhibition-of-the-illustrations-of-roberto-innocenti-at-palazzo-malaspina/
END:VEVENT
END:VCALENDAR