BEGIN:VCALENDAR
VERSION:2.0
PRODID:-//eventon.com NONSGML v1.0//EN
BEGIN:VEVENT
UID:69e9f3fd94882
DTSTAMP:20260423T122709
DTSTART:20181105T200000Z
DTEND:20181105T233000Z
TZID:UTC
LOCATION:Tavarnelle Val di Pesa 
SUMMARY:A six-handed dinner with three Michelin stars: November 5th at Castello Del Nero
DESCRIPTION: On Monday\,  November 5th at 8pm at the restaurant La Torre del Castello Del Nero\,  in Tavarnelle\,  get ready for a top-quality gourmet dinner: six hands and &#8230; three Michelin stars. Chef Lino Scarallo of the Palazzo Petrucci restaurant (Naples) and Chef Peppe Aversa of Il Buco restaurant (Sorrento) will[..]
URL:https://www.wechianti.com/events/cena-mani-tre-stelle-michelin-5-novembre-al-castello-del-nero/
END:VEVENT
END:VCALENDAR