BEGIN:VCALENDAR
VERSION:2.0
PRODID:-//eventon.com NONSGML v1.0//EN
BEGIN:VEVENT
UID:69e92a1685191
DTSTAMP:20260422T220542
DTSTART:20181014
DTEND:20181014
TZID:UTC
LOCATION:Villa a Sesta &#8211; Castelnuovo Berardenga 
SUMMARY:Il festival del mangiar con le mani: il 14 ottobre torna (a Villa a Sesta) Dit'Unto
DESCRIPTION: Se non ti lecchi le dita&#8230; godi solo a metà. Lo dice una celebra pubblicità: in quel caso il prodotto è industriale\,  e a noi interessa il giusto. Ma a Villa a Sesta hanno ben presente il gusto massimo della &#8220;leccata di dita&#8221; alla fine di un boccone. Tanto che[..]
URL:https://www.wechianti.com/events/festival-del-mangiar-le-mani-14-ottobre-torna-villa-sesta-ditunto/
END:VEVENT
END:VCALENDAR