BEGIN:VCALENDAR
VERSION:2.0
PRODID:-//eventon.com NONSGML v1.0//EN
BEGIN:VEVENT
UID:69ea117cbae97
DTSTAMP:20260423T143300
DTSTART:20180518
DTEND:20180520
TZID:UTC
LOCATION:Gaiole in Chianti 
SUMMARY:“Polvere&Gloria” motorbike rally along the route of the Eroica: from 18th to 20th May
DESCRIPTION: There is time until May 1st to register for the 2018 edition of &#8220;Polvere&Gloria – sulle strade dell’Eroica in moto&#8221; (Dust&Glory – a motorbike rally along the route of the Eroica)\,  and get the last available places. The event that hundreds of enduro bike fans from all over Italy and[..]
URL:https://www.wechianti.com/events/polveregloria-sulle-strade-delleroica-moto-dal-18-al-20-maggio/
END:VEVENT
END:VCALENDAR