BEGIN:VCALENDAR
VERSION:2.0
PRODID:-//eventon.com NONSGML v1.0//EN
BEGIN:VEVENT
UID:69e9f9dc37886
DTSTAMP:20260423T125212
DTSTART:20180518
DTEND:20180520
TZID:UTC
LOCATION:Gaiole in Chianti 
SUMMARY:Polvere&Gloria sulle strade dell’Eroica in moto (enduro): dal 18 al 20 maggio
DESCRIPTION: C’è tempo fino all’1 maggio per iscriversi all’edizione 2018 di “Polvere&Gloria &#8211; sulle strade dell&#8217;Eroica in moto”\,  aggiudicandosi gli ultimissimi posti disponibili. L’appuntamento per centinaia di appassionati dell&#8217;enduro provenienti da tutta Italia e Europa è a Gaiole in Chianti dal 18 al 20 maggio. Una grande festa celebrata sul percorso[..]
URL:https://www.wechianti.com/events/polveregloria-sulle-strade-delleroica-moto-dal-18-al-20-maggio/
END:VEVENT
END:VCALENDAR