BEGIN:VCALENDAR
VERSION:2.0
PRODID:-//eventon.com NONSGML v1.0//EN
BEGIN:VEVENT
UID:69e7f4665c0d8
DTSTAMP:20260422T000422
DTSTART:20160508T150000Z
DTEND:20160508T180000Z
TZID:UTC
LOCATION:Castelnuovo Berardenga 
SUMMARY:"Mother's Day" and "Mother Heart"
DESCRIPTION: Double initiative dedicated to Mother&#8217;s Feast in the town of Castelnuovo Berardenga\,  Sunday\,  May 8. In Castelnuovo\,  &#8220;A Mother&#8217;s Heart&#8221;\,  an initiative organized by &#8220;Rione Castello&#8221; of Castelnuovo\,  in collaboration with the Association Siena Heart. After the inauguration of the defibrillator in Piazza Marconi at 15\,  children&#8217;s entertainment\,  face painting\, [..]
URL:https://www.wechianti.com/events/festa-della-mamma-cuore-mamma/
END:VEVENT
END:VCALENDAR