BEGIN:VCALENDAR
VERSION:2.0
PRODID:-//eventon.com NONSGML v1.0//EN
BEGIN:VEVENT
UID:69e7daf34e3f3
DTSTAMP:20260421T221547
DTSTART:20160508T150000Z
DTEND:20160508T180000Z
TZID:UTC
LOCATION:Castelnuovo Berardenga 
SUMMARY:"Festa della Mamma" e "Cuore di Mamma"
DESCRIPTION: Doppia iniziativa dedicata alla &#8220;Festa della Mamma&#8221; nel comune di Castelnuovo Berardenga\,  domenica 8 maggio. A Castelnuovo\,  &#8220;Cuore di mamma&#8221;\,  iniziativa organizzata dal Rione Castello di Castelnuovo\,  in collaborazione con l&#8217;Associazione Siena Cuore. Dopo l&#8217;inaugurazione del defibrillatore in Piazza Marconi alle ore 15\,  animazione per bambini\,  truccabimbi\,  musica live\,  merende\, [..]
URL:https://www.wechianti.com/events/festa-della-mamma-cuore-mamma/
END:VEVENT
END:VCALENDAR