BEGIN:VCALENDAR
VERSION:2.0
PRODID:-//eventon.com NONSGML v1.0//EN
BEGIN:VEVENT
UID:69ec0bc5b02da
DTSTAMP:20260425T023309
DTSTART:20180519
DTEND:20180520
TZID:UTC
LOCATION:Firenze-Chianti Fiorentino 
SUMMARY:Strade bianche e vigneti per la "Certosina": in bici d'epoca da Firenze al Chianti Classico
DESCRIPTION: La Certosina\,  un ciclostorica davvero Docg. È la prima vera gara ciclostorica del Chianti fiorentino. &#8220;Una vera prova Docg che nasce alla Certosa del Galluzzo\,  alle porte di Firenze\,  e si addentra all&#8217;interno del territorio del Chianti Classico Gallo Nero&#8221;\,  dice Luigi Cappellini\,  proprietario del Castello di Verrazzano\,  a Greve[..]
URL:https://www.wechianti.com/events/ce/
END:VEVENT
END:VCALENDAR