BEGIN:VCALENDAR
VERSION:2.0
PRODID:-//eventon.com NONSGML v1.0//EN
BEGIN:VEVENT
UID:69ed65c1a95b7
DTSTAMP:20260426T030921
DTSTART:20171021
DTEND:20171103
TZID:UTC
LOCATION:San Donato in Poggio (Tavarnelle) 
SUMMARY:Exhibit of stills from the film “La pazza gioia” by Paolo Virzì at Palazzo Malaspina
DESCRIPTION: Paolo Ciriello’s stills from “La pazza gioia” by director Paolo Virzì will be displayed in San Donato in Poggio\,  in the beautiful setting of Palazzo Malaspina. Paolo Ciriello is one of the most important stills photographers in Italy\,  a real leader in the field. &nbsp; The exhibition\,  organized by Coop[..]
URL:https://www.wechianti.com/events/le-foto-scena-del-film-la-pazza-gioia-paolo-virzi-mostra-palazzo-malaspina/
END:VEVENT
END:VCALENDAR