BEGIN:VCALENDAR
VERSION:2.0
PRODID:-//eventon.com NONSGML v1.0//EN
BEGIN:VEVENT
UID:69ed7b8f48aaf
DTSTAMP:20260426T044223
DTSTART:20171021
DTEND:20171103
TZID:UTC
LOCATION:San Donato in Poggio (Tavarnelle) 
SUMMARY:Le foto di scena del film "La pazza gioia" di Paolo Virzì in mostra a Palazzo Malaspina
DESCRIPTION: Le foto di scena di Paolo Ciriello dal set del film “La pazza gioia” di Paolo Virzì in mostra a San Donato in Poggio\,  nella meravigliosa cornice di Palazzo Malaspina. Paolo Ciriello è uno dei più importanti fotografi di scena e tra i migliori protagonisti di questo mestiere. La mostra\, [..]
URL:https://www.wechianti.com/events/le-foto-scena-del-film-la-pazza-gioia-paolo-virzi-mostra-palazzo-malaspina/
END:VEVENT
END:VCALENDAR