BEGIN:VCALENDAR
VERSION:2.0
PRODID:-//eventon.com NONSGML v1.0//EN
BEGIN:VEVENT
UID:69ecc1e81cac0
DTSTAMP:20260425T153016
DTSTART:20171001T090000Z
DTEND:20171001T190000Z
TZID:UTC
LOCATION:Semifonte (Barberino V.E.) 
SUMMARY:Domenica 1 ottobre "Artigiani e artisti a Semifonte"
DESCRIPTION: Appuntamento di quelli davvero speciali domenica 1 ottobre alla Cupola di Semifonte (Barberino Val d&#8217;Elsa): con l&#8217;organizzazione del Gruppo Archeologico Achu e della Pro Loco di Barberino Val d&#8217;Elsa si svolgerà infatti &#8220;Artigiani e artisti a Semifonte&#8221;. Dalla mattina mercatino con artigiani e artisti al lavoro; alle 16 visita dal[..]
URL:https://www.wechianti.com/events/domenica-1-ottobre-artigiani-artisti-semifonte/
END:VEVENT
END:VCALENDAR