BEGIN:VCALENDAR
VERSION:2.0
PRODID:-//eventon.com NONSGML v1.0//EN
BEGIN:VEVENT
UID:69eca96d16369
DTSTAMP:20260425T134549
DTSTART:20171001T090000Z
DTEND:20171001T190000Z
TZID:UTC
LOCATION:Semifonte (Barberino V.E.) 
SUMMARY:Sunday 1st October "Artisans and artists in Semifonte"
DESCRIPTION: A very special event will be taking place on Sunday 1st October at the Cupola di Semifonte (Barberino Val d&#8217;Elsa): the &#8220;Artisans and artists in Semifonte&#8221;\,  organized by the Archaeological Group Achu and the Pro Loco of Barberino Val d&#8217;Elsa. From the morning onwards\,  you’ll find a market with craftsmen[..]
URL:https://www.wechianti.com/events/domenica-1-ottobre-artigiani-artisti-semifonte/
END:VEVENT
END:VCALENDAR