BEGIN:VCALENDAR
VERSION:2.0
PRODID:-//eventon.com NONSGML v1.0//EN
BEGIN:VEVENT
UID:69e61e7bc2fd1
DTSTAMP:20260420T143923
DTSTART:20170910T090000Z
DTEND:20170910T170000Z
TZID:UTC
LOCATION:Tavarnelle Val di Pesa 
SUMMARY:“Di Borgo in Borgo”: in Tavarnelle on the 10th September you walk (and eat) your way around the countryside
DESCRIPTION: The popular “Di Borgo in Borgo” gastronomic walk returns in 2017\,  promoted by the Unione Polisportiva Tavarnelle and Circolo La Rampa\,  in collaboration with the members of the Tavarnelle Coop. On Sunday 10th September the departure is from Piazza Matteotti at 9am for the 11 kilometre walk that has gastronomic[..]
URL:https://www.wechianti.com/events/tavarnelle-10-settembre-si-cammina-si-mangia-borgo-borgo/
END:VEVENT
END:VCALENDAR