BEGIN:VCALENDAR
VERSION:2.0
PRODID:-//eventon.com NONSGML v1.0//EN
BEGIN:VEVENT
UID:69e63bc118b96
DTSTAMP:20260420T164417
DTSTART:20170910T090000Z
DTEND:20170910T170000Z
TZID:UTC
LOCATION:Tavarnelle Val di Pesa 
SUMMARY:A Tavarnelle il 10 settembre si cammina (e si mangia) "Di Borgo in Borgo"
DESCRIPTION: Torna\,  attesissima\,  l&#8217;edizione 2017 della passeggiata naturalistica e gastronomica &#8220;Di Borgo in Borgo&#8221;\,  promossa da Unione Polisportiva Tavarnelle e Circolo La Rampa\,  in collaborazione con la sezione soci Coop di Tavarnelle. Domenica 10 settembre partenza da piazza Matteotti alle 9 per un percorso di circa 11 Km\,  con varie soste[..]
URL:https://www.wechianti.com/events/tavarnelle-10-settembre-si-cammina-si-mangia-borgo-borgo/
END:VEVENT
END:VCALENDAR