BEGIN:VCALENDAR
VERSION:2.0
PRODID:-//eventon.com NONSGML v1.0//EN
BEGIN:VEVENT
UID:69e7856d71be0
DTSTAMP:20260421T161053
DTSTART:20160501T083000Z
DTEND:20160501T150000Z
TZID:UTC
LOCATION:Madonna di Brolio (Castelnuovo Berardenga) 
SUMMARY:Trekking from Brolio Castle to San Gusmè
DESCRIPTION: Half-day trekking in the form of crossing from Brolio Castle in San Gusmè. The route of 13.5 km\,  suitable for experienced hikers\,  through various places of interest including the town of San Felice and the necropolis of Pici. At the tour will take a full lunch at 15 euro at[..]
URL:https://www.wechianti.com/events/traversata-castello-brolio-san-gusme/
END:VEVENT
END:VCALENDAR