BEGIN:VCALENDAR
VERSION:2.0
PRODID:-//eventon.com NONSGML v1.0//EN
BEGIN:VEVENT
UID:69e690646f49b
DTSTAMP:20260420T224524
DTSTART:20170801
DTEND:20171031
TZID:UTC
LOCATION:Castellina in Chianti 
SUMMARY:Castellina: fortifications of the 1400s on display along the walls
DESCRIPTION: The theme of the exhibition\,  “1478 &#8220;Architettori Militari&#8221; all&#8217;assedio di Castellina”\,  is “reliving local history through the discovery of the grand military fortifications of the 1400s”. The show will be on display along via delle Volte until Tuesday\,  October 31. It is made up of 22 panels which reconstruct the[..]
URL:https://www.wechianti.com/events/castellina-le-grandi-fortificazioni-del-400-mostra-lungo-le-mura/
END:VEVENT
END:VCALENDAR