BEGIN:VCALENDAR
VERSION:2.0
PRODID:-//eventon.com NONSGML v1.0//EN
BEGIN:VEVENT
UID:69e6ae6ee5e04
DTSTAMP:20260421T005334
DTSTART:20170801
DTEND:20171031
TZID:UTC
LOCATION:Castellina in Chianti 
SUMMARY:Castellina: le grandi fortificazioni del ‘400 in mostra lungo le mura
DESCRIPTION: Rivivere la storia locale attraverso la riscoperta delle grandi fortificazioni militari del Quattrocento. È questo il tema della mostra “1478 &#8220;Architettori Militari&#8221; all&#8217;assedio di Castellina”\,  che sarà ospitata nella cornice di via delle Volte fino a martedì 31 ottobre. L’esposizione è composta da ventidue pannelli che ricostruiscono la storia dell’assedio[..]
URL:https://www.wechianti.com/events/castellina-le-grandi-fortificazioni-del-400-mostra-lungo-le-mura/
END:VEVENT
END:VCALENDAR