BEGIN:VCALENDAR
VERSION:2.0
PRODID:-//eventon.com NONSGML v1.0//EN
BEGIN:VEVENT
UID:69e76da5a937c
DTSTAMP:20260421T142925
DTSTART:20160501T083000Z
DTEND:20160501T150000Z
TZID:UTC
LOCATION:Madonna di Brolio (Castelnuovo Berardenga) 
SUMMARY:Traversata Castello di Brolio - San Gusmè
DESCRIPTION: Trekking di mezza giornata in forma di traversata dal Castello di Brolio a San Gusmè. Il percorso di 13\, 5 km\,  adatto ad escursionisti esperti\,  attraversa vari luoghi di interesse tra cui il borgo di San Felice e la necropoli delle Pici. A fine escursione è previsto un pranzo completo a[..]
URL:https://www.wechianti.com/events/traversata-castello-brolio-san-gusme/
END:VEVENT
END:VCALENDAR