BEGIN:VCALENDAR
VERSION:2.0
PRODID:-//eventon.com NONSGML v1.0//EN
BEGIN:VEVENT
UID:69e4c50ca449b
DTSTAMP:20260419T140532
DTSTART:20170712
DTEND:20171026
TZID:UTC
LOCATION:Gaiole in Chianti 
SUMMARY:Al Castello di Spaltenna si cena con i cuochi... "stellati". E super pizzaioli e macellai
DESCRIPTION: Dopo il successo della prima edizione\,  torna &#8220;Dining With the Stars&#8221; al Castello di Spaltenna. La scorsa estate lo chef Vincenzo Guarino ha cucinato a fianco di grandi cuochi italiani come Gaetano Trovato\,  Nino di Costanzo\,  Andrea Ribaldone\,  Giuseppe Mancino e altri ancora. Vincenzo Guarino Quest’anno\,  per la seconda edizione\, [..]
URL:https://www.wechianti.com/events/al-castello-spaltenna-si-cena-cuochi-stellati-super-pizzaioli-macellai/
END:VEVENT
END:VCALENDAR