BEGIN:VCALENDAR
VERSION:2.0
PRODID:-//eventon.com NONSGML v1.0//EN
BEGIN:VEVENT
UID:69e6fb175f922
DTSTAMP:20260421T062039
DTSTART:20160508T081500Z
DTEND:20160508T150000Z
TZID:UTC
LOCATION:
SUMMARY:Winetrail MTB
DESCRIPTION: The tour\,  from San Donato in Poggio (Tavarnelle)\,  will allow you to fully enjoy the magnificent scenery of the Chianti Classico\,  to discover real corners of paradise in the saddle of your mountain bike. Standard non-competitive route: about 25 km\,  difference in height about 600 meters\,  estimated travel time 2[..]
URL:https://www.wechianti.com/events/winetrail-mtb/
END:VEVENT
END:VCALENDAR