BEGIN:VCALENDAR
VERSION:2.0
PRODID:-//eventon.com NONSGML v1.0//EN
BEGIN:VEVENT
UID:69e6dbb2efdba
DTSTAMP:20260421T040642
DTSTART:20160508T081500Z
DTEND:20160508T150000Z
TZID:UTC
LOCATION:San Donato in Poggio 
SUMMARY:WineTrail MTB
DESCRIPTION: Il giro\,  con partenza da San Donato in Poggio (Tavarnelle)\,  vi permetterà di godere a pieno dei magnifici paesaggi del Chianti Classico\,  alla scoperta di veri e propri angoli di paradiso in sella alla vostra Mountain Bike. Percorso standard non agonistico: circa 25 km\,  dislivello complessivo circa 600 metri\,  tempo[..]
URL:https://www.wechianti.com/events/winetrail-mtb/
END:VEVENT
END:VCALENDAR