BEGIN:VCALENDAR
VERSION:2.0
PRODID:-//eventon.com NONSGML v1.0//EN
BEGIN:VEVENT
UID:69eb30cb762db
DTSTAMP:20260424T105851
DTSTART:20170910
DTEND:20170910
TZID:UTC
LOCATION:Castelnuovo Berardenga\,  San Gusmè 
SUMMARY:Castelnuovo: national ﬁnals of the “Palio delle Botti” in San Gusmè
DESCRIPTION: The village of San Gusmè in Castelnuovo Barerdenga will host the ﬁnals of the “Palio Nazionale delle Botti 2017”\,  promoted by the national Association “Città del Vino” . The race consists in the rolling of a barrel of 500 liters along a route with a minimum of 600 meters and[..]
URL:https://www.wechianti.com/events/castelnuovo-finale-nazionale-del-palio-delle-botti-san-gusme/
END:VEVENT
END:VCALENDAR